Workbook

Sheet KAYIT
B2: A GRUBU
A3: A1 | B3: 1 | C3: =Sayfa3!B3 -> FATİH FEN L.
A4: A2 | B4: 2 | C4: =Sayfa3!B4 -> ÖZEL YESEVİ MTAL
A5: A3 | B5: 3 | C5: =Sayfa3!B5 -> ÖZEL MBA F.L.
A6: A4 | B6: 4 | C6: =Sayfa3!B6 -> TOKİ ŞHT.İ.TETİK A.L.
A7: A5 | B7: 5 | C7: =Sayfa3!B7
A8: A6 | B8: 6 | C8: =Sayfa3!B8 -> A6
B10: B GRUBU
A11: B1 | B11: 1 | C11: =Sayfa3!E3 -> KENAN YALÇIN A.L.
A12: B2 | B12: 2 | C12: =Sayfa3!E4 -> ŞHT.FAZIL YILDIRIM A.L.
A13: B3 | B13: 3 | C13: =Sayfa3!E5 -> ÖZEL ÇAĞDAŞ F.L.
A14: B4 | B14: 4 | C14: =Sayfa3!E6
A15: B5 | B15: 5 | C15: =Sayfa3!E7
A16: B6 | B16: 6 | C16: =Sayfa3!E8 -> B6
B18: C GRUBU
A19: C1 | B19: 1 | C19: =Sayfa3!H3 -> GAZİ MTAL
A20: C2 | B20: 2 | C20: =Sayfa3!H4 -> ÖZEL OSB MTAL
A21: C3 | B21: 3 | C21: =Sayfa3!H5 -> EĞİTİMCİLER SPOR L.
A22: C4 | B22: 4 | C22: =Sayfa3!H6
A23: C5 | B23: 5 | C23: =Sayfa3!H7
A24: C6 | B24: 6 | C24: =Sayfa3!H8 -> C6
B26: D GRUBU
A27: D1 | B27: 1 | C27: =Sayfa3!K3 -> H.AHMED YESEVİ A.L.
A28: D2 | B28: 2 | C28: =Sayfa3!K4 -> KILIÇOĞLU A.L.
A29: D3 | B29: 3 | C29: =Sayfa3!K5 -> B.RIFAT ÇIKILIOĞLU A.L.
A30: D4 | B30: 4 | C30: =Sayfa3!K6
A31: D5 | B31: 5 | C31: =Sayfa3!K7
A32: D6 | B32: 6 | C32: =Sayfa3!K8 -> D6
B34: E GRUBU
A35: E1 | B35: 1 | C35: =Sayfa3!N3 -> ŞHT.M.ŞENGÜL F.L.
A36: E2 | B36: 2 | C36: =Sayfa3!N4 -> MAT FKB ÖZEL GELİŞİM F.L.
A37: E3 | B37: 3 | C37: =Sayfa3!N5 -> ÖZEL ROTA A.L.
A38: E4 | B38: 4 | C38: =Sayfa3!N6
A39: E5 | B39: 5 | C39: =Sayfa3!N7 -> 0
A40: E6 | B40: 6 | C40: =Sayfa3!N8 -> 0
B42: F GRUBU
A43: F1 | B43: 1 | C43: =Sayfa3!B11 -> ÖZEL TED A.L.
A44: F2 | B44: 2 | C44: =Sayfa3!B12 -> ÖZEL YENİYOL F.L.
A45: F3 | B45: 3 | C45: =Sayfa3!B13 -> SALİH ZEKİ AL.L
A46: F4 | B46: 4 | C46: =Sayfa3!B14
A47: F5 | B47: 5 | C47: =Sayfa3!B15 -> 0
A48: F6 | B48: 6 | C48: =Sayfa3!B16 -> F6
B50: G GRUBU
A51: G1 | B51: 1 | C51: =Sayfa3!E11 -> ÖZEL ATAYURT F.L.
A52: G2 | B52: 2 | C52: =Sayfa3!E12 -> BORSA İST.F.L.
A53: G3 | B53: 3 | C53: =Sayfa3!E13 -> FATİH AND. L.
A54: G4 | B54: 4 | C54: =Sayfa3!E14
A55: G5 | B55: 5 | C55: =Sayfa3!E15 -> 0
A56: G6 | B56: 6 | C56: =Sayfa3!E16 -> G6
B58: H GRUBU
A59: H1 | B59: 1 | C59: =Sayfa3!H11 -> SİVRİHİSAR SEV M. DEMİR A.L.
A60: H2 | B60: 2 | C60: =Sayfa3!H12 -> AHMET KANATLI A.L.
A61: H3 | B61: 3 | C61: =Sayfa3!H13 -> TOKİ ŞHT.S.KUBAŞ A.L.
A62: H4 | B62: 4 | C62: =Sayfa3!H14
A63: H5 | B63: 5 | C63: =Sayfa3!H15 -> 0
A64: H6 | B64: 6 | C64: =Sayfa3!H16 -> H6
B66: I GRUBU
A67: I1 | B67: 1 | C67: =Sayfa3!K11 -> 0
A68: I2 | B68: 2 | C68: =Sayfa3!K12 -> 0
A69: I3 | B69: 3 | C69: =Sayfa3!K13 -> 0
A70: I4 | B70: 4 | C70: =Sayfa3!K14 -> 0
A71: I5 | B71: 5 | C71: =Sayfa3!K15 -> I5
A72: I6 | B72: 6 | C72: =Sayfa3!K16 -> İ6
B74: J GRUBU
A75: J1 | B75: 1 | C75: =Sayfa3!N11 -> 0
A76: J2 | B76: 2 | C76: =Sayfa3!N12 -> 0
A77: J3 | B77: 3 | C77: =Sayfa3!N13 -> 0
A78: J4 | B78: 4 | C78: =Sayfa3!N14 -> 0
A79: J5 | B79: 5 | C79: =Sayfa3!N15 -> J5
A80: J6 | B80: 6 | C80: =Sayfa3!N16 -> J6
B82: K GRUBU
A83: K1 | B83: 1
A84: K2 | B84: 2
A85: K3 | B85: 3
A86: K4 | B86: 4
A87: K5 | B87: 5
A88: K6 | B88: 6
B90: L GRUBU
A91: L1 | B91: 1
A92: L2 | B92: 2
A93: L3 | B93: 3
A94: L4 | B94: 4
A95: L5 | B95: 5
A96: L6 | B96: 6
B98: M GRUBU
A99: M1 | B99: 1
A100: M2 | B100: 2
A101: M3 | B101: 3
A102: M4 | B102: 4
A103: M5 | B103: 5
A104: M6 | B104: 6
B106: N GRUBU
A107: N1 | B107: 1
A108: N2 | B108: 2
A109: N3 | B109: 3
A110: N4 | B110: 4
A111: N5 | B111: 5
A112: N6 | B112: 6

Sheet GENÇ A KIZ
A1: 2026-2027 EĞİTİM ÖĞRETİM YILI VOLEYBOL GENÇ A KIZ FİKSTÜRÜ
B4: A GRUBU | O4: B GRUBU | AB4: C GRUBU | AO4: D GRUBU
B5: 1 | C5: BEYLİKOVA FL | O5: 1 | P5: ÖZEL ATAYURT AL | AB5: 1 | AC5: ŞHT HÜSEYİN ULUÇEŞME AL | AO5: 1 | AP5: ESKİŞEHİR AND. LİS.
B6: 2 | C6: ŞHT MEHMET ŞENGÜL FL | O6: 2 | P6: ETİ SOSYAL BİL. LİS. | AB6: 2 | AC6: MAT FKB ÖZEL GELİŞİM FL | AO6: 2 | AP6: FATİH FEN LİS.
B7: 3 | C7: TOKİ ŞHT İKRAM CİRİT AL | O7: 3 | P7: KENAN YALÇIN AL | AB7: 3 | AC7: EĞİTİMCİLER SPOR LİS. | AO7: 3 | AP7: GAZİ M.KEMAL AL
B9: E GRUBU | O9: F GRUBU | AB9: G GRUBU | AO9: H GRUBU
B10: 1 | C10: BORSA İSTANBUL FL | O10: 1 | P10: ÖZEL YENİ ROTA AL | AB10: 1 | AC10: CEMAL MÜMTAZ SOS. BİL. LİS. | AO10: 1 | AP10: ÖZEL ŞEHİR KOLEJİ FL
B11: 2 | C11: SALİH ZEKİ AL | O11: 2 | P11: ÖZEL BAHÇEŞEHİR FL | AB11: 2 | AC11: ŞHT İLKER KARTER MTAL | AO11: 2 | AP11: PROF. DR. ORHAN OĞUZ AL
B12: 3 | C12: FATİH AND. LİS. | O12: 3 | P12: ÖZEL KOKPİT MTAL | AB12: 3 | AC12: ÖZEL ÇAĞDAŞ FL | AO12: 3 | AP12: TEV TUNA ORHAN NAİL İZGİ AL
B15: TARİH | G15: SAAT | K15: YER | T15: KTG | W15: TAKIMLAR | AH15: GRUP | AL15: TAKIMLAR | AW15: SONUÇ
B16: 46315 | G16: 0.41666667 | K16: ŞHT. ANIL GÜL S.S | T16: GNÇ A KIZ | W16: ESKİŞEHİR AND. LİS. | AH16: D1 | AJ16: D2 | AL16: FATİH FEN LİS.
B17: 46315 | G17: 0.47916667 | K17: ŞHT. ANIL GÜL S.S | T17: GNÇ A KIZ | W17: BORSA İSTANBUL FL | AH17: E1 | AJ17: E2 | AL17: SALİH ZEKİ AL
B18: 46315 | G18: 0.54166667 | K18: ŞHT. ANIL GÜL S.S | T18: GNÇ A KIZ | W18: ÖZEL ATAYURT AL | AH18: B1 | AJ18: B2 | AL18: ETİ SOSYAL BİL. LİS.
B19: 46315 | G19: 0.60416667 | K19: ŞHT. ANIL GÜL S.S | T19: GNÇ A KIZ | W19: ŞHT HÜSEYİN ULUÇEŞME AL | AH19: C1 | AJ19: C2 | AL19: MAT FKB ÖZEL GELİŞİM FL
B20: TARİH | G20: SAAT | K20: YER | T20: KTG | W20: TAKIMLAR | AH20: GRUP | AL20: TAKIMLAR | AW20: SONUÇ
B21: 46316 | G21: 0.41666667 | K21: ŞHT. ANIL GÜL S.S | T21: GNÇ A KIZ | W21: ÖZEL YENİ ROTA AL | AH21: F1 | AJ21: F2 | AL21: ÖZEL BAHÇEŞEHİR FL
B22: 46316 | G22: 0.47916667 | K22: ŞHT. ANIL GÜL S.S | T22: GNÇ A KIZ | W22: CEMAL MÜMTAZ SOS. BİL. LİS. | AH22: G1 | AJ22: G2 | AL22: ŞHT İLKER KARTER MTAL
B23: 46316 | G23: 0.54166667 | K23: ŞHT. ANIL GÜL S.S | T23: GNÇ A KIZ | W23: BEYLİKOVA FL | AH23: A1 | AJ23: A2 | AL23: ŞHT MEHMET ŞENGÜL FL
B24: 46316 | G24: 0.60416667 | K24: ŞHT. ANIL GÜL S.S | T24: GNÇ A KIZ | W24: ÖZEL ŞEHİR KOLEJİ FL | AH24: H1 | AJ24: H2 | AL24: PROF. DR. ORHAN OĞUZ AL
B25: TARİH | G25: SAAT | K25: YER | T25: KTG | W25: TAKIMLAR | AH25: GRUP | AL25: TAKIMLAR | AW25: SONUÇ
B26: 46321 | G26: 0.41666667 | K26: ŞHT. ANIL GÜL S.S | T26: GNÇ A KIZ | W26: KENAN YALÇIN AL | AH26: B3 | AJ26: B1 | AL26: ÖZEL ATAYURT AL
B27: 46321 | G27: 0.47916667 | K27: ŞHT. ANIL GÜL S.S | T27: GNÇ A KIZ | W27: EĞİTİMCİLER SPOR LİS. | AH27: C3 | AJ27: C1 | AL27: ŞHT HÜSEYİN ULUÇEŞME AL
B28: 46321 | G28: 0.54166667 | K28: ŞHT. ANIL GÜL S.S | T28: GNÇ A KIZ | W28: GAZİ M.KEMAL AL | AH28: D3 | AJ28: D1 | AL28: ESKİŞEHİR AND. LİS.
B29: 46321 | G29: 0.60416667 | K29: ŞHT. ANIL GÜL S.S | T29: GNÇ A KIZ | W29: TOKİ ŞHT İKRAM CİRİT AL | AH29: A3 | AJ29: A1 | AL29: BEYLİKOVA FL
B30: TARİH | G30: SAAT | K30: YER | T30: KTG | W30: TAKIMLAR | AL30: TAKIMLAR | AW30: SONUÇ
B31: 46322 | G31: 0.41666667 | K31: ŞHT. ANIL GÜL S.S | T31: GNÇ A KIZ | W31: TEV TUNA ORHAN NAİL İZGİ AL | AH31: H3 | AJ31: H1 | AL31: ÖZEL ŞEHİR KOLEJİ FL
B32: 46322 | G32: 0.47916667 | K32: ŞHT. ANIL GÜL S.S | T32: GNÇ A KIZ | W32: ÖZEL ÇAĞDAŞ FL | AH32: G3 | AJ32: G1 | AL32: CEMAL MÜMTAZ SOS. BİL. LİS.
B33: 46322 | G33: 0.54166667 | K33: ŞHT. ANIL GÜL S.S | T33: GNÇ A KIZ | W33: FATİH AND. LİS. | AH33: E3 | AJ33: E1 | AL33: BORSA İSTANBUL FL
B34: 46322 | G34: 0.60416667 | K34: ŞHT. ANIL GÜL S.S | T34: GNÇ A KIZ | W34: ÖZEL KOKPİT MTAL | AH34: F3 | AJ34: F1 | AL34: ÖZEL YENİ ROTA AL
B35: TARİH | G35: SAAT | K35: YER | T35: KTG | W35: TAKIMLAR | AL35: TAKIMLAR | AW35: SONUÇ
B36: 46328 | G36: 0.41666667 | K36: ŞHT. ANIL GÜL S.S | T36: GNÇ A KIZ | W36: ŞHT MEHMET ŞENGÜL FL | AH36: A2 | AJ36: A3 | AL36: TOKİ ŞHT İKRAM CİRİT AL
B37: 46328 | G37: 0.47916667 | K37: ŞHT. ANIL GÜL S.S | T37: GNÇ A KIZ | W37: ETİ SOSYAL BİL. LİS. | AH37: B2 | AJ37: B3 | AL37: KENAN YALÇIN AL
B38: 46328 | G38: 0.54166667 | K38: ŞHT. ANIL GÜL S.S | T38: GNÇ A KIZ | W38: MAT FKB ÖZEL GELİŞİM FL | AH38: C2 | AJ38: C3 | AL38: EĞİTİMCİLER SPOR LİS.
B39: 46328 | G39: 0.60416667 | K39: ŞHT. ANIL GÜL S.S | T39: GNÇ A KIZ | W39: FATİH FEN LİS. | AH39: D2 | AJ39: D3 | AL39: GAZİ M.KEMAL AL
B40: TARİH | G40: SAAT | K40: YER | T40: KTG | W40: TAKIMLAR | AL40: TAKIMLAR | AW40: SONUÇ
B41: 46329 | G41: 0.41666667 | K41: ŞHT. ANIL GÜL S.S | T41: GNÇ A KIZ | W41: SALİH ZEKİ AL | AH41: E2 | AJ41: E3 | AL41: FATİH AND. LİS.
B42: 46329 | G42: 0.47916667 | K42: ŞHT. ANIL GÜL S.S | T42: GNÇ A KIZ | W42: ÖZEL BAHÇEŞEHİR FL | AH42: F2 | AJ42: F3 | AL42: ÖZEL KOKPİT MTAL
B43: 46329 | G43: 0.54166667 | K43: ŞHT. ANIL GÜL S.S | T43: GNÇ A KIZ | W43: ŞHT İLKER KARTER MTAL | AH43: G2 | AJ43: G3 | AL43: ÖZEL ÇAĞDAŞ FL
B44: 46329 | G44: 0.60416667 | K44: ŞHT. ANIL GÜL S.S | T44: GNÇ A KIZ | W44: PROF. DR. ORHAN OĞUZ AL | AH44: H2 | AJ44: H3 | AL44: TEV TUNA ORHAN NAİL İZGİ AL
B45: GRUPLARDAN ÇIKAN İLK İKİ TAKIMA GÖRE SON 16 TURU
B47: 1. MAÇ | H47: 2. MAÇ | N47: 3. MAÇ | T47: 4. MAÇ | W47: =IF(ISERROR(VLOOKUP(AH47,KAYIT!$A$2:$C$112,3,0)),"",(VLOOKUP(AH47,KAYIT!$A$2:$C$112,3,0))) | Z47: 5. MAÇ | AF47: 6. MAÇ | AL47: 7. MAÇ | AR47: 8. MAÇ
B48: A1/H2 | H48: B1/G2 | N48: C1/F2 | T48: D1/E2 | W48: =IF(ISERROR(VLOOKUP(AH48,KAYIT!$A$2:$C$112,3,0)),"",(VLOOKUP(AH48,KAYIT!$A$2:$C$112,3,0))) | Z48: E1/D2 | AF48: F1/C2 | AL48: G1/B2 | AR48: H1/A2
W49: =IF(ISERROR(VLOOKUP(AH49,KAYIT!$A$2:$C$112,3,0)),"",(VLOOKUP(AH49,KAYIT!$A$2:$C$112,3,0))) | AL49: =IF(ISERROR(VLOOKUP(AJ49,KAYIT!$A$2:$C$112,3,0)),"",(VLOOKUP(AJ49,KAYIT!$A$2:$C$112,3,0)))
B50: TARİH | G50: SAAT | K50: YER | T50: KTG | W50: TAKIMLAR | AH50: GRUP | AL50: TAKIMLAR | AW50: SONUÇ
B51: 46331 | G51: 0.41666667 | K51: ŞHT. ANIL GÜL S.S | T51: GNÇ A KIZ | AH51: A1-H2
B52: 46331 | G52: 0.47916667 | K52: ŞHT. ANIL GÜL S.S | T52: GNÇ A KIZ | AH52: B1-G2
B53: 46331 | G53: 0.54166667 | K53: ŞHT. ANIL GÜL S.S | T53: GNÇ A KIZ | AH53: C1-F2
B54: 46331 | G54: 0.60416667 | K54: ŞHT. ANIL GÜL S.S | T54: GNÇ A KIZ | AH54: D1-E2
B55: TARİH | G55: SAAT | K55: YER | T55: KTG | W55: TAKIMLAR | AH55: GRUP | AL55: TAKIMLAR | AW55: SONUÇ
B56: 46332 | G56: 0.41666667 | K56: ŞHT. ANIL GÜL S.S | T56: GNÇ A KIZ | AH56: E1-D2
B57: 46332 | G57: 0.47916667 | K57: ŞHT. ANIL GÜL S.S | T57: GNÇ A KIZ | AH57: F1-C2
B58: 46332 | G58: 0.54166667 | K58: ŞHT. ANIL GÜL S.S | T58: GNÇ A KIZ | AH58: G1-B2
B59: 46332 | G59: 0.60416667 | K59: ŞHT. ANIL GÜL S.S | T59: GNÇ A KIZ | AH59: H1-A2
B61: ÇEYREK FİNAL (ELEMELERİ KAZANAN 8 TAKIMA GÖRE )
B63: TARİH | G63: SAAT | K63: YER | T63: KTG | W63: TAKIMLAR | AH63: GRUP | AL63: TAKIMLAR | AW63: SONUÇ
B64: 46335 | G64: 0.41666667 | K64: ŞHT. ANIL GÜL S.S | T64: GNÇ A KIZ | AH64: 1-2
B65: 46335 | G65: 0.47916667 | K65: ŞHT. ANIL GÜL S.S | T65: GNÇ A KIZ | AH65: 3-4
B66: 46335 | G66: 0.54166667 | K66: ŞHT. ANIL GÜL S.S | T66: GNÇ A KIZ | AH66: 5-6
B67: 46335 | G67: 0.60416667 | K67: ŞHT. ANIL GÜL S.S | T67: GNÇ A KIZ | AH67: 7-8
B69: YARI FİNAL (ELEMELERİ KAZANAN 4 TAKIMA GÖRE )
B71: TARİH | G71: SAAT | K71: YER | T71: KTG | W71: TAKIMLAR | AH71: GRUP | AL71: TAKIMLAR | AW71: SONUÇ
B72: 46337 | G72: 0.41666667 | K72: ŞHT. ANIL GÜL S.S | T72: GNÇ A KIZ | AH72: 1-2/3-4
B73: 46337 | G73: 0.47916667 | K73: ŞHT. ANIL GÜL S.S | T73: GNÇ A KIZ | AH73: 5-6/7-8
B75: FİNAL + 3.LÜK
B77: TARİH | G77: SAAT | K77: YER | T77: KTG | W77: TAKIMLAR | AH77: GRUP | AL77: TAKIMLAR | AW77: SONUÇ
B78: 46339 | G78: 0.41666667 | K78: ŞHT. ANIL GÜL S.S | T78: GNÇ A KIZ | AH78: 3. LÜK- 4. LÜK
B79: 46339 | G79: 0.47916667 | K79: ŞHT. ANIL GÜL S.S | T79: GNÇ A KIZ | AH79: FİNAL

Sheet Sayfa3
A2: A GRUBU | D2: B GRUBU | G2: C GRUBU | J2: D GRUBU | M2: E GRUBU
A3: 1 | B3: =Sayfa1!E2 -> FATİH FEN L. | D3: 1 | E3: =Sayfa1!I2 -> KENAN YALÇIN A.L. | G3: 1 | H3: =Sayfa1!M2 -> GAZİ MTAL | J3: 1 | K3: =Sayfa1!Q2 -> H.AHMED YESEVİ A.L. | M3: 1 | N3: =Sayfa1!E8 -> ŞHT.M.ŞENGÜL F.L.
A4: 2 | B4: =Sayfa1!E3 -> ÖZEL YESEVİ MTAL | D4: 2 | E4: =Sayfa1!I3 -> ŞHT.FAZIL YILDIRIM A.L. | G4: 2 | H4: =Sayfa1!M3 -> ÖZEL OSB MTAL | J4: 2 | K4: =Sayfa1!Q3 -> KILIÇOĞLU A.L. | M4: 2 | N4: =Sayfa1!E9 -> MAT FKB ÖZEL GELİŞİM F.L.
A5: 3 | B5: =Sayfa1!E4 -> ÖZEL MBA F.L. | D5: 3 | E5: =Sayfa1!I4 -> ÖZEL ÇAĞDAŞ F.L. | G5: 3 | H5: =Sayfa1!M4 -> EĞİTİMCİLER SPOR L. | J5: 3 | K5: =Sayfa1!Q4 -> B.RIFAT ÇIKILIOĞLU A.L. | M5: 3 | N5: =Sayfa1!E10 -> ÖZEL ROTA A.L.
A6: 4 | B6: =Sayfa1!E5 -> TOKİ ŞHT.İ.TETİK A.L. | D6: 4 | E6: =Sayfa1!I5 | G6: 4 | H6: =Sayfa1!M5 | J6: 4 | K6: =Sayfa1!Q5 | M6: 4 | N6: =Sayfa1!E11
A7: 5 | B7: =Sayfa1!E6 | D7: 5 | E7: =Sayfa1!I6 | G7: 5 | H7: =Sayfa1!M6 | J7: 5 | K7: =Sayfa1!Q6 | M7: 5 | N7: =Sayfa1!E12 -> 0
A8: 6 | B8: A6 | D8: 6 | E8: B6 | G8: 6 | H8: C6 | J8: 6 | K8: D6 | M8: 6
A10: F GRUBU | D10: G GRUBU | G10: H GRUBU | J10: İ GRUBU | M10: J GRUBU
A11: 1 | B11: =Sayfa1!I8 -> ÖZEL TED A.L. | D11: 1 | E11: =Sayfa1!M8 -> ÖZEL ATAYURT F.L. | G11: 1 | H11: =Sayfa1!Q8 -> SİVRİHİSAR SEV M. DEMİR A.L. | J11: 1 | K11: =Sayfa1!E14 -> 0 | M11: 1 | N11: =Sayfa1!I14 -> 0
A12: 2 | B12: =Sayfa1!I9 -> ÖZEL YENİYOL F.L. | D12: 2 | E12: =Sayfa1!M9 -> BORSA İST.F.L. | G12: 2 | H12: =Sayfa1!Q9 -> AHMET KANATLI A.L. | J12: 2 | K12: =Sayfa1!E15 -> 0 | M12: 2 | N12: =Sayfa1!I15 -> 0
A13: 3 | B13: =Sayfa1!I10 -> SALİH ZEKİ AL.L | D13: 3 | E13: =Sayfa1!M10 -> FATİH AND. L. | G13: 3 | H13: =Sayfa1!Q10 -> TOKİ ŞHT.S.KUBAŞ A.L. | J13: 3 | K13: =Sayfa1!E16 -> 0 | M13: 3 | N13: =Sayfa1!I16 -> 0
A14: 4 | B14: =Sayfa1!I11 | D14: 4 | E14: =Sayfa1!M11 | G14: 4 | H14: =Sayfa1!Q11 | J14: 4 | K14: =Sayfa1!E17 -> 0 | M14: 4 | N14: =Sayfa1!I17 -> 0
A15: 5 | B15: =Sayfa1!I12 -> 0 | D15: 5 | E15: =Sayfa1!M12 -> 0 | G15: 5 | H15: =Sayfa1!Q12 -> 0 | J15: 5 | K15: =Sayfa1!E18 -> I5 | M15: 5 | N15: =Sayfa1!I18 -> J5
A16: 6 | B16: F6 | D16: 6 | E16: G6 | G16: 6 | H16: H6 | J16: 6 | K16: İ6 | M16: 6 | N16: J6

Sheet Sayfa1
B1: KATILAN TAKIMLAR | C1: A GURUBU | G1: B GURUBU | K1: C GURUBU | O1: D GURUBU
A2: G3 | B2: SARICAKAYA İHO | C2: A1 | D2: 1 | E2: =IF(ISERROR(VLOOKUP(C2,$A$1:$B$89,2,0)),"",(VLOOKUP(C2,$A$1:$U$89,2,0))) -> FATİH FEN L. | G2: B1 | H2: 1 | I2: KENAN YALÇIN A.L. | K2: C1 | L2: 1 | M2: GAZİ MTAL | O2: D1 | P2: 1 | Q2: H.AHMED YESEVİ A.L.
A3: A4 | B3: TOKİ ŞHT.İ.TETİK A.L. | C3: A2 | D3: 2 | E3: =IF(ISERROR(VLOOKUP(C3,$A$1:$B$89,2,0)),"",(VLOOKUP(C3,$A$1:$U$89,2,0))) -> ÖZEL YESEVİ MTAL | G3: B2 | H3: 2 | I3: ŞHT.FAZIL YILDIRIM A.L. | K3: C2 | L3: 2 | M3: ÖZEL OSB MTAL | O3: D2 | P3: 2 | Q3: KILIÇOĞLU A.L.
A4: H1 | B4: ORG. HALİL SÖZER O.O | C4: A3 | D4: 3 | E4: =IF(ISERROR(VLOOKUP(C4,$A$1:$B$89,2,0)),"",(VLOOKUP(C4,$A$1:$U$89,2,0))) -> ÖZEL MBA F.L. | G4: B3 | H4: 3 | I4: ÖZEL ÇAĞDAŞ F.L. | K4: C3 | L4: 3 | M4: EĞİTİMCİLER SPOR L. | O4: D3 | P4: 3 | Q4: B.RIFAT ÇIKILIOĞLU A.L.
A5: F2 | B5: AHMET SEZER O.O | C5: A4 | D5: 4 | E5: =IF(ISERROR(VLOOKUP(C5,$A$1:$B$89,2,0)),"",(VLOOKUP(C5,$A$1:$U$89,2,0))) -> TOKİ ŞHT.İ.TETİK A.L. | G5: B4 | H5: 4 | I5: =IF(ISERROR(VLOOKUP(G5,$A$1:$B$89,2,0)),"",(VLOOKUP(G5,$A$1:$U$89,2,0))) | K5: C4 | L5: 4 | M5: =IF(ISERROR(VLOOKUP(K5,$A$1:$B$89,2,0)),"",(VLOOKUP(K5,$A$1:$U$89,2,0))) | O5: D4 | P5: 4 | Q5: =IF(ISERROR(VLOOKUP(O5,$A$1:$B$89,2,0)),"",(VLOOKUP(O5,$A$1:$U$89,2,0)))
A6: E3 | B6: A. FUAT CEBESOY O.O | C6: A5 | D6: 5 | E6: =IF(ISERROR(VLOOKUP(C6,$A$1:$B$89,2,0)),"",(VLOOKUP(C6,$A$1:$U$89,2,0))) | G6: B5 | H6: 5 | I6: =IF(ISERROR(VLOOKUP(G6,$A$1:$B$89,2,0)),"",(VLOOKUP(G6,$A$1:$U$89,2,0))) | K6: C5 | L6: 5 | M6: =IF(ISERROR(VLOOKUP(K6,$A$1:$B$89,2,0)),"",(VLOOKUP(K6,$A$1:$U$89,2,0))) | O6: D5 | P6: 5 | Q6: =IF(ISERROR(VLOOKUP(O6,$A$1:$B$89,2,0)),"",(VLOOKUP(O6,$A$1:$U$89,2,0)))
A7: H2 | B7: Ş ALİ GAFFAR OKKAN O.O | C7: E GURUBU | G7: F GURUBU | K7: G GURUBU | O7: H GURUBU
A8: C2 | B8: MELAHAT ÜNÜGÜR O.O | C8: E1 | D8: 1 | E8: ŞHT.M.ŞENGÜL F.L. | G8: F1 | H8: 1 | I8: ÖZEL TED A.L. | K8: G1 | L8: 1 | M8: ÖZEL ATAYURT F.L. | O8: H1 | P8: 1 | Q8: SİVRİHİSAR SEV M. DEMİR A.L.
A9: D1 | B9: MEHMET GEDİK O.O | C9: E2 | D9: 2 | E9: MAT FKB ÖZEL GELİŞİM F.L. | G9: F2 | H9: 2 | I9: ÖZEL YENİYOL F.L. | K9: G2 | L9: 2 | M9: BORSA İST.F.L. | O9: H2 | P9: 2 | Q9: AHMET KANATLI A.L.
A10: B2 | B10: SAMİ SİPAHİ O.O | C10: E3 | D10: 3 | E10: ÖZEL ROTA A.L. | G10: F3 | H10: 3 | I10: SALİH ZEKİ AL.L | K10: G3 | L10: 3 | M10: FATİH AND. L. | O10: H3 | P10: 3 | Q10: TOKİ ŞHT.S.KUBAŞ A.L.
A11: B1 | B11: GÜLAY KANATLI O.O | C11: E4 | D11: 4 | E11: =IF(ISERROR(VLOOKUP(C11,$A$1:$B$89,2,0)),"",(VLOOKUP(C11,$A$1:$U$89,2,0))) | G11: F4 | H11: 4 | I11: =IF(ISERROR(VLOOKUP(G11,$A$1:$B$89,2,0)),"",(VLOOKUP(G11,$A$1:$U$89,2,0))) | K11: G4 | M11: =IF(ISERROR(VLOOKUP(K11,$A$1:$B$89,2,0)),"",(VLOOKUP(K11,$A$1:$U$89,2,0))) | O11: H4 | P11: 3 | Q11: =IF(ISERROR(VLOOKUP(O11,$A$1:$B$89,2,0)),"",(VLOOKUP(O11,$A$1:$U$89,2,0)))
A12: C1 | B12: Ö. BİLNET O.O
A13: E2 | B13: Ö. TED ESK. O.O | C13: I | G13: J | K13: K | O13: L
A14: D2 | B14: Ö. MBA O.O
A15: B3 | B15: Ö. BAHÇEŞEHİR O.O
A16: A2 | B16: ÖZEL YESEVİ MTAL
A17: C3 | B17: Ö. ATAYURT O.O
A18: D3 | B18: MAT FKB ÖZ. GELİŞİM O.O | E18: I5 | I18: J5 | M18: K5 | Q18: L5
A19: F1 | B19: Ö. ÇAĞDAŞ O.O
A20: F3 | B20: M. AKİF ERSOY O.O
A21: G1 | B21: SUZAN GÜRCANLI O.O
A22: E1 | B22: Ş.P AST. ÇV. SONER ÖZÜBEK O.O
A23: G2 | B23: Ş. HALİL DURMAZ O.O
A24: A1 | B24: FATİH FEN L.
A25: H3 | B25: FATİH FEN L.
A26: A3 | B26: ÖZEL MBA F.L.

Sheet Sayfa2
